Package: affxparser Version: 1.78.0 Command: /Library/Frameworks/R.framework/Resources/bin/R CMD build --keep-empty-dirs --no-resave-data affxparser StartedAt: 2025-02-03 18:27:35 -0500 (Mon, 03 Feb 2025) EndedAt: 2025-02-03 18:27:37 -0500 (Mon, 03 Feb 2025) EllapsedTime: 2.0 seconds RetCode: 0 Status: OK PackageFile: affxparser_1.78.0.tar.gz PackageFileSize: 782.5 KiB