Package: affxparser Version: 1.78.0 Command: /home/biocbuild/R/R/bin/R CMD check --install=check:affxparser.install-out.txt --library=/home/biocbuild/R/R/site-library --no-vignettes --timings affxparser_1.78.0.tar.gz StartedAt: 2024-11-20 04:59:27 -0000 (Wed, 20 Nov 2024) EndedAt: 2024-11-20 05:00:43 -0000 (Wed, 20 Nov 2024) EllapsedTime: 75.1 seconds RetCode: 1 Status: ERROR CheckDir: affxparser.Rcheck Warnings: NA