Package: affxparser Version: 1.78.0 Command: rm -rf affxparser.buildbin-libdir && mkdir affxparser.buildbin-libdir && /Users/biocbuild/BBS/utils/build-universal.sh affxparser_1.78.0.tar.gz /Library/Frameworks/R.framework/Resources/bin/R affxparser.buildbin-libdir StartedAt: 2025-02-04 12:25:42 -0500 (Tue, 04 Feb 2025) EndedAt: 2025-02-04 12:29:58 -0500 (Tue, 04 Feb 2025) EllapsedTime: 256.2 seconds RetCode: 0 Status: OK PackageFile: affxparser_1.78.0.tgz PackageFileSize: 1.677 MiB