Package: affxparser Version: 1.78.0 Command: /Library/Frameworks/R.framework/Resources/bin/R CMD build --keep-empty-dirs --no-resave-data affxparser StartedAt: 2025-02-03 16:58:12 -0500 (Mon, 03 Feb 2025) EndedAt: 2025-02-03 16:58:18 -0500 (Mon, 03 Feb 2025) EllapsedTime: 6.3 seconds RetCode: 0 Status: OK PackageFile: affxparser_1.78.0.tar.gz PackageFileSize: 782.6 KiB