Package: affxparser Version: 1.78.0 Command: /Library/Frameworks/R.framework/Resources/bin/R CMD check --install=check:affxparser.install-out.txt --library=/Library/Frameworks/R.framework/Resources/library --no-vignettes --timings affxparser_1.78.0.tar.gz StartedAt: 2025-02-03 23:28:42 -0500 (Mon, 03 Feb 2025) EndedAt: 2025-02-03 23:30:46 -0500 (Mon, 03 Feb 2025) EllapsedTime: 123.9 seconds RetCode: 0 Status: WARNINGS CheckDir: affxparser.Rcheck Warnings: 2