Package: affxparser Version: 1.78.0 Command: /Library/Frameworks/R.framework/Resources/bin/R CMD INSTALL affxparser StartedAt: 2025-02-03 15:12:14 -0500 (Mon, 03 Feb 2025) EndedAt: 2025-02-03 15:15:01 -0500 (Mon, 03 Feb 2025) EllapsedTime: 167.3 seconds RetCode: 0 Status: OK