Package: affxparser Version: 1.78.0 Command: /home/biocbuild/R/R/bin/R CMD INSTALL affxparser StartedAt: 2025-02-03 20:21:16 -0000 (Mon, 03 Feb 2025) EndedAt: 2025-02-03 20:23:40 -0000 (Mon, 03 Feb 2025) EllapsedTime: 144.3 seconds RetCode: 0 Status: OK