Package: affy Version: 1.84.0 Command: /home/biocbuild/bbs-3.20-bioc/R/bin/R CMD build --keep-empty-dirs --no-resave-data --md5 affy StartedAt: 2025-02-03 16:17:03 -0500 (Mon, 03 Feb 2025) EndedAt: 2025-02-03 16:18:07 -0500 (Mon, 03 Feb 2025) EllapsedTime: 64.1 seconds RetCode: 0 Status: OK PackageFile: affy_1.84.0.tar.gz PackageFileSize: 1.689 MiB