Package: affyPLM Version: 1.82.0 Command: rm -rf affyPLM.buildbin-libdir && mkdir affyPLM.buildbin-libdir && /Users/biocbuild/BBS/utils/build-universal.sh affyPLM_1.82.0.tar.gz /Library/Frameworks/R.framework/Resources/bin/R affyPLM.buildbin-libdir StartedAt: 2025-02-04 12:25:59 -0500 (Tue, 04 Feb 2025) EndedAt: 2025-02-04 12:26:53 -0500 (Tue, 04 Feb 2025) EllapsedTime: 54.1 seconds RetCode: 0 Status: OK PackageFile: affyPLM_1.82.0.tgz PackageFileSize: 4.5 MiB