Package: affycomp Version: 1.82.0 Command: rm -rf affycomp.buildbin-libdir && mkdir affycomp.buildbin-libdir && /Users/biocbuild/BBS/utils/build-universal.sh affycomp_1.82.0.tar.gz /Library/Frameworks/R.framework/Resources/bin/R affycomp.buildbin-libdir StartedAt: 2025-02-05 14:43:59 -0500 (Wed, 05 Feb 2025) EndedAt: 2025-02-05 14:44:05 -0500 (Wed, 05 Feb 2025) EllapsedTime: 6.7 seconds RetCode: 0 Status: OK PackageFile: affycomp_1.82.0.tgz PackageFileSize: 8.106 MiB