Package: affycomp Version: 1.82.0 Command: /home/biocbuild/bbs-3.20-bioc/R/bin/R CMD check --install=check:affycomp.install-out.txt --library=/home/biocbuild/bbs-3.20-bioc/R/site-library --timings affycomp_1.82.0.tar.gz StartedAt: 2025-02-03 19:56:48 -0500 (Mon, 03 Feb 2025) EndedAt: 2025-02-03 19:57:19 -0500 (Mon, 03 Feb 2025) EllapsedTime: 31.1 seconds RetCode: 0 Status: OK CheckDir: affycomp.Rcheck Warnings: 0