Package: affycomp
Version: 1.81.0
Command: rm -rf affycomp.buildbin-libdir && mkdir affycomp.buildbin-libdir && F:\biocbuild\bbs-3.20-bioc\R\bin\R.exe CMD INSTALL --build --library=affycomp.buildbin-libdir affycomp_1.81.0.tar.gz
StartedAt: 2024-06-10 12:48:12 -0400 (Mon, 10 Jun 2024)
EndedAt: 2024-06-10 12:49:04 -0400 (Mon, 10 Jun 2024)
EllapsedTime: 51.5 seconds
RetCode: 0
Status: OK
PackageFile: affycomp_1.81.0.zip
PackageFileSize: 8.016 <A href="http://en.wikipedia.org/wiki/MiB" target="_blank">MiB</A>