Package: affycomp Version: 1.82.0 Command: rm -rf affycomp.buildbin-libdir && mkdir affycomp.buildbin-libdir && F:\biocbuild\bbs-3.20-bioc\R\bin\R.exe CMD INSTALL --build --library=affycomp.buildbin-libdir affycomp_1.82.0.tar.gz StartedAt: 2025-02-04 07:55:58 -0500 (Tue, 04 Feb 2025) EndedAt: 2025-02-04 07:56:30 -0500 (Tue, 04 Feb 2025) EllapsedTime: 31.4 seconds RetCode: 0 Status: OK PackageFile: affycomp_1.82.0.zip PackageFileSize: 8.017 MiB