Package: affycomp Version: 1.82.0 Command: chmod a+r affycomp -R && F:\biocbuild\bbs-3.20-bioc\R\bin\R.exe CMD build --keep-empty-dirs --no-resave-data affycomp StartedAt: 2025-02-03 17:25:12 -0500 (Mon, 03 Feb 2025) EndedAt: 2025-02-03 17:25:41 -0500 (Mon, 03 Feb 2025) EllapsedTime: 28.3 seconds RetCode: 0 Status: OK PackageFile: affycomp_1.82.0.tar.gz PackageFileSize: 7.877 MiB