Package: affycomp Version: 1.82.0 Command: /home/biocbuild/R/R/bin/R CMD check --install=check:affycomp.install-out.txt --library=/home/biocbuild/R/R/site-library --no-vignettes --timings affycomp_1.82.0.tar.gz StartedAt: 2025-02-04 04:11:55 -0000 (Tue, 04 Feb 2025) EndedAt: 2025-02-04 04:12:43 -0000 (Tue, 04 Feb 2025) EllapsedTime: 48.1 seconds RetCode: 0 Status: OK CheckDir: affycomp.Rcheck Warnings: 0