Package: affycoretools
Version: 1.78.0
Command: rm -rf affycoretools.buildbin-libdir && mkdir affycoretools.buildbin-libdir && /Users/biocbuild/BBS/utils/build-universal.sh affycoretools_1.78.0.tar.gz /Library/Frameworks/R.framework/Resources/bin/R affycoretools.buildbin-libdir
StartedAt: 2025-02-19 14:02:57 -0500 (Wed, 19 Feb 2025)
EndedAt: 2025-02-19 14:04:14 -0500 (Wed, 19 Feb 2025)
EllapsedTime: 77.5 seconds
RetCode: 0
Status: OK
PackageFile: affycoretools_1.78.0.tgz
PackageFileSize: 570.8 <A href="http://en.wikipedia.org/wiki/KiB" target="_blank">KiB</A>