Package: affycoretools
Version: 1.78.0
Command: /Library/Frameworks/R.framework/Resources/bin/R CMD check --install=check:affycoretools.install-out.txt --library=/Library/Frameworks/R.framework/Resources/library --no-vignettes --timings affycoretools_1.78.0.tar.gz
StartedAt: 2024-11-08 19:48:29 -0500 (Fri, 08 Nov 2024)
EndedAt: 2024-11-08 19:54:25 -0500 (Fri, 08 Nov 2024)
EllapsedTime: 356.3 seconds
RetCode: 0
Status: OK
CheckDir: affycoretools.Rcheck
Warnings: 0