Package: affycoretools Version: 1.78.0 Command: /home/biocbuild/bbs-3.20-bioc/R/bin/R CMD build --keep-empty-dirs --no-resave-data --md5 affycoretools StartedAt: 2025-02-03 16:17:15 -0500 (Mon, 03 Feb 2025) EndedAt: 2025-02-03 16:19:12 -0500 (Mon, 03 Feb 2025) EllapsedTime: 117.2 seconds RetCode: 0 Status: OK PackageFile: affycoretools_1.78.0.tar.gz PackageFileSize: 6.607 MiB