Package: affycoretools Version: 1.78.0 Command: rm -rf affycoretools.buildbin-libdir && mkdir affycoretools.buildbin-libdir && F:\biocbuild\bbs-3.20-bioc\R\bin\R.exe CMD INSTALL --build --library=affycoretools.buildbin-libdir affycoretools_1.78.0.tar.gz StartedAt: 2025-02-18 07:32:57 -0500 (Tue, 18 Feb 2025) EndedAt: 2025-02-18 07:34:50 -0500 (Tue, 18 Feb 2025) EllapsedTime: 113.4 seconds RetCode: 0 Status: OK PackageFile: affycoretools_1.78.0.zip PackageFileSize: 573.2 <A href="http://en.wikipedia.org/wiki/KiB" target="_blank">KiB</A>