Package: affycoretools Version: 1.78.0 Command: F:\biocbuild\bbs-3.20-bioc\R\bin\R.exe CMD check --no-multiarch --install=check:affycoretools.install-out.txt --library=F:\biocbuild\bbs-3.20-bioc\R\library --no-vignettes --timings affycoretools_1.78.0.tar.gz StartedAt: 2025-02-03 23:01:35 -0500 (Mon, 03 Feb 2025) EndedAt: 2025-02-03 23:09:56 -0500 (Mon, 03 Feb 2025) EllapsedTime: 501.3 seconds RetCode: 0 Status: OK CheckDir: affycoretools.Rcheck Warnings: 0