Package: affyio Version: 1.76.0 Command: /Library/Frameworks/R.framework/Resources/bin/R CMD build --keep-empty-dirs --no-resave-data affyio StartedAt: 2025-02-03 18:28:19 -0500 (Mon, 03 Feb 2025) EndedAt: 2025-02-03 18:28:20 -0500 (Mon, 03 Feb 2025) EllapsedTime: 1.0 seconds RetCode: 0 Status: OK PackageFile: affyio_1.76.0.tar.gz PackageFileSize: 107.9 KiB