Package: affyio Version: 1.76.0 Command: /Library/Frameworks/R.framework/Resources/bin/R CMD check --install=check:affyio.install-out.txt --library=/Library/Frameworks/R.framework/Resources/library --no-vignettes --timings affyio_1.76.0.tar.gz StartedAt: 2025-02-17 23:31:23 -0500 (Mon, 17 Feb 2025) EndedAt: 2025-02-17 23:31:56 -0500 (Mon, 17 Feb 2025) EllapsedTime: 33.0 seconds RetCode: 0 Status: WARNINGS CheckDir: affyio.Rcheck Warnings: 2