Package: affyio Version: 1.76.0 Command: rm -rf affyio.buildbin-libdir && mkdir affyio.buildbin-libdir && F:\biocbuild\bbs-3.20-bioc\R\bin\R.exe CMD INSTALL --build --library=affyio.buildbin-libdir affyio_1.76.0.tar.gz StartedAt: 2025-02-04 07:56:13 -0500 (Tue, 04 Feb 2025) EndedAt: 2025-02-04 07:56:41 -0500 (Tue, 04 Feb 2025) EllapsedTime: 28.7 seconds RetCode: 0 Status: OK PackageFile: affyio_1.76.0.zip PackageFileSize: 94.02 KiB