Package: affyio Version: 1.76.0 Command: chmod a+r affyio -R && F:\biocbuild\bbs-3.20-bioc\R\bin\R.exe CMD build --keep-empty-dirs --no-resave-data affyio StartedAt: 2025-02-03 17:25:31 -0500 (Mon, 03 Feb 2025) EndedAt: 2025-02-03 17:25:36 -0500 (Mon, 03 Feb 2025) EllapsedTime: 5.6 seconds RetCode: 0 Status: OK PackageFile: affyio_1.76.0.tar.gz PackageFileSize: 107.6 KiB