Package: affyio Version: 1.76.0 Command: F:\biocbuild\bbs-3.20-bioc\R\bin\R.exe CMD INSTALL affyio StartedAt: 2025-02-03 15:31:44 -0500 (Mon, 03 Feb 2025) EndedAt: 2025-02-03 15:32:09 -0500 (Mon, 03 Feb 2025) EllapsedTime: 24.6 seconds RetCode: 0 Status: OK