Package: affylmGUI Version: 1.80.0 Command: /Library/Frameworks/R.framework/Resources/bin/R CMD INSTALL affylmGUI StartedAt: 2024-11-19 15:24:03 -0500 (Tue, 19 Nov 2024) EndedAt: 2024-11-19 15:24:38 -0500 (Tue, 19 Nov 2024) EllapsedTime: 34.6 seconds RetCode: 0 Status: OK