Package: affylmGUI Version: 1.80.0 Command: rm -rf affylmGUI.buildbin-libdir && mkdir affylmGUI.buildbin-libdir && /Users/biocbuild/BBS/utils/build-universal.sh affylmGUI_1.80.0.tar.gz /Library/Frameworks/R.framework/Resources/bin/R affylmGUI.buildbin-libdir StartedAt: 2025-02-04 12:25:56 -0500 (Tue, 04 Feb 2025) EndedAt: 2025-02-04 12:26:53 -0500 (Tue, 04 Feb 2025) EllapsedTime: 57.2 seconds RetCode: 0 Status: OK PackageFile: affylmGUI_1.80.0.tgz PackageFileSize: 2.146 MiB