Package: affylmGUI Version: 1.80.0 Command: /Library/Frameworks/R.framework/Resources/bin/R CMD build --keep-empty-dirs --no-resave-data affylmGUI StartedAt: 2025-02-03 16:58:48 -0500 (Mon, 03 Feb 2025) EndedAt: 2025-02-03 16:59:56 -0500 (Mon, 03 Feb 2025) EllapsedTime: 67.3 seconds RetCode: 0 Status: OK PackageFile: affylmGUI_1.80.0.tar.gz PackageFileSize: 1.759 MiB