Package: affylmGUI Version: 1.80.0 Command: /Library/Frameworks/R.framework/Resources/bin/R CMD check --install=check:affylmGUI.install-out.txt --library=/Library/Frameworks/R.framework/Resources/library --no-vignettes --timings affylmGUI_1.80.0.tar.gz StartedAt: 2025-02-03 23:30:34 -0500 (Mon, 03 Feb 2025) EndedAt: 2025-02-03 23:35:00 -0500 (Mon, 03 Feb 2025) EllapsedTime: 265.9 seconds RetCode: 0 Status: OK CheckDir: affylmGUI.Rcheck Warnings: 0