Package: affylmGUI Version: 1.80.0 Command: /home/biocbuild/bbs-3.20-bioc/R/bin/R CMD build --keep-empty-dirs --no-resave-data --md5 affylmGUI StartedAt: 2025-02-03 16:17:19 -0500 (Mon, 03 Feb 2025) EndedAt: 2025-02-03 16:17:49 -0500 (Mon, 03 Feb 2025) EllapsedTime: 30.0 seconds RetCode: 0 Status: OK PackageFile: affylmGUI_1.80.0.tar.gz PackageFileSize: 1.763 MiB