Package: affylmGUI Version: 1.80.0 Command: /home/biocbuild/bbs-3.20-bioc/R/bin/R CMD INSTALL affylmGUI StartedAt: 2025-02-03 15:26:47 -0500 (Mon, 03 Feb 2025) EndedAt: 2025-02-03 15:27:11 -0500 (Mon, 03 Feb 2025) EllapsedTime: 23.5 seconds RetCode: 0 Status: OK