Package: affylmGUI Version: 1.80.0 Command: /home/biocbuild/R/R/bin/R CMD build --keep-empty-dirs --no-resave-data affylmGUI StartedAt: 2025-02-03 21:32:41 -0000 (Mon, 03 Feb 2025) EndedAt: 2025-02-03 21:33:11 -0000 (Mon, 03 Feb 2025) EllapsedTime: 30.0 seconds RetCode: 0 Status: OK PackageFile: affylmGUI_1.80.0.tar.gz PackageFileSize: 1.753 MiB