Package: affylmGUI Version: 1.80.0 Command: /home/biocbuild/R/R/bin/R CMD check --install=check:affylmGUI.install-out.txt --library=/home/biocbuild/R/R/site-library --no-vignettes --timings affylmGUI_1.80.0.tar.gz StartedAt: 2025-02-04 04:12:43 -0000 (Tue, 04 Feb 2025) EndedAt: 2025-02-04 04:15:22 -0000 (Tue, 04 Feb 2025) EllapsedTime: 158.6 seconds RetCode: 0 Status: WARNINGS CheckDir: affylmGUI.Rcheck Warnings: 1