Package: affylmGUI Version: 1.80.0 Command: /home/biocbuild/R/R/bin/R CMD INSTALL affylmGUI StartedAt: 2025-02-03 20:46:15 -0000 (Mon, 03 Feb 2025) EndedAt: 2025-02-03 20:46:41 -0000 (Mon, 03 Feb 2025) EllapsedTime: 25.5 seconds RetCode: 0 Status: OK