Package: agilp
Version: 3.38.0
Command: rm -rf agilp.buildbin-libdir && mkdir agilp.buildbin-libdir && /Users/biocbuild/BBS/utils/build-universal.sh agilp_3.38.0.tar.gz /Library/Frameworks/R.framework/Resources/bin/R agilp.buildbin-libdir
StartedAt: 2025-02-19 14:03:33 -0500 (Wed, 19 Feb 2025)
EndedAt: 2025-02-19 14:03:36 -0500 (Wed, 19 Feb 2025)
EllapsedTime: 3.4 seconds
RetCode: 0
Status: OK
PackageFile: agilp_3.38.0.tgz
PackageFileSize: 488.1 <A href="http://en.wikipedia.org/wiki/KiB" target="_blank">KiB</A>