Package: agilp Version: 3.38.0 Command: F:\biocbuild\bbs-3.20-bioc\R\bin\R.exe CMD check --no-multiarch --install=check:agilp.install-out.txt --library=F:\biocbuild\bbs-3.20-bioc\R\library --no-vignettes --timings agilp_3.38.0.tar.gz StartedAt: 2025-02-03 23:02:27 -0500 (Mon, 03 Feb 2025) EndedAt: 2025-02-03 23:02:55 -0500 (Mon, 03 Feb 2025) EllapsedTime: 27.9 seconds RetCode: 0 Status: OK CheckDir: agilp.Rcheck Warnings: 0