Package: agilp Version: 3.38.0 Command: /home/biocbuild/R/R/bin/R CMD build --keep-empty-dirs --no-resave-data agilp StartedAt: 2025-02-03 21:33:10 -0000 (Mon, 03 Feb 2025) EndedAt: 2025-02-03 21:33:16 -0000 (Mon, 03 Feb 2025) EllapsedTime: 6.0 seconds RetCode: 0 Status: OK PackageFile: agilp_3.38.0.tar.gz PackageFileSize: 446.1 KiB