Package: alabaster.base Version: 1.6.1 Command: /home/biocbuild/bbs-3.20-bioc/R/bin/R CMD INSTALL alabaster.base StartedAt: 2025-02-03 15:19:13 -0500 (Mon, 03 Feb 2025) EndedAt: 2025-02-03 15:20:34 -0500 (Mon, 03 Feb 2025) EllapsedTime: 80.9 seconds RetCode: 0 Status: OK