Package: alabaster.base Version: 1.6.1 Command: /home/biocbuild/R/R/bin/R CMD INSTALL alabaster.base StartedAt: 2025-02-03 20:29:06 -0000 (Mon, 03 Feb 2025) EndedAt: 2025-02-03 20:31:09 -0000 (Mon, 03 Feb 2025) EllapsedTime: 123.0 seconds RetCode: 0 Status: OK