Package: alabaster.bumpy Version: 1.6.0 Command: rm -rf alabaster.bumpy.buildbin-libdir && mkdir alabaster.bumpy.buildbin-libdir && F:\biocbuild\bbs-3.20-bioc\R\bin\R.exe CMD INSTALL --build --library=alabaster.bumpy.buildbin-libdir alabaster.bumpy_1.6.0.tar.gz StartedAt: 2025-02-04 07:56:38 -0500 (Tue, 04 Feb 2025) EndedAt: 2025-02-04 07:57:02 -0500 (Tue, 04 Feb 2025) EllapsedTime: 24.7 seconds RetCode: 0 Status: OK PackageFile: alabaster.bumpy_1.6.0.zip PackageFileSize: 274.7 KiB