Package: alabaster.bumpy Version: 1.6.0 Command: /home/biocbuild/R/R/bin/R CMD check --install=check:alabaster.bumpy.install-out.txt --library=/home/biocbuild/R/R/site-library --no-vignettes --timings alabaster.bumpy_1.6.0.tar.gz StartedAt: 2025-02-04 04:14:49 -0000 (Tue, 04 Feb 2025) EndedAt: 2025-02-04 04:17:43 -0000 (Tue, 04 Feb 2025) EllapsedTime: 174.5 seconds RetCode: 0 Status: OK CheckDir: alabaster.bumpy.Rcheck Warnings: 0