Package: alabaster.files Version: 1.4.0 Command: /Library/Frameworks/R.framework/Resources/bin/R CMD build --keep-empty-dirs --no-resave-data alabaster.files StartedAt: 2025-01-30 18:41:40 -0500 (Thu, 30 Jan 2025) EndedAt: 2025-01-30 18:42:04 -0500 (Thu, 30 Jan 2025) EllapsedTime: 24.2 seconds RetCode: 0 Status: OK PackageFile: alabaster.files_1.4.0.tar.gz PackageFileSize: 234.1 KiB