Package: alabaster.files Version: 1.4.0 Command: /Library/Frameworks/R.framework/Resources/bin/R CMD check --install=check:alabaster.files.install-out.txt --library=/Library/Frameworks/R.framework/Resources/library --no-vignettes --timings alabaster.files_1.4.0.tar.gz StartedAt: 2025-01-31 10:43:28 -0500 (Fri, 31 Jan 2025) EndedAt: 2025-01-31 10:45:31 -0500 (Fri, 31 Jan 2025) EllapsedTime: 123.2 seconds RetCode: 0 Status: OK CheckDir: alabaster.files.Rcheck Warnings: 0