Package: alabaster.files Version: 1.4.0 Command: /Library/Frameworks/R.framework/Resources/bin/R CMD INSTALL alabaster.files StartedAt: 2025-01-30 16:15:29 -0500 (Thu, 30 Jan 2025) EndedAt: 2025-01-30 16:15:46 -0500 (Thu, 30 Jan 2025) EllapsedTime: 16.6 seconds RetCode: 0 Status: OK