Package: alabaster.files Version: 1.4.0 Command: /Library/Frameworks/R.framework/Resources/bin/R CMD INSTALL alabaster.files StartedAt: 2025-01-30 15:44:30 -0500 (Thu, 30 Jan 2025) EndedAt: 2025-01-30 15:45:04 -0500 (Thu, 30 Jan 2025) EllapsedTime: 34.7 seconds RetCode: 0 Status: OK