Package: alabaster.files Version: 1.4.0 Command: /home/biocbuild/bbs-3.20-bioc/R/bin/R CMD build --keep-empty-dirs --no-resave-data --md5 alabaster.files StartedAt: 2025-01-30 16:09:44 -0500 (Thu, 30 Jan 2025) EndedAt: 2025-01-30 16:10:03 -0500 (Thu, 30 Jan 2025) EllapsedTime: 19.0 seconds RetCode: 0 Status: OK PackageFile: alabaster.files_1.4.0.tar.gz PackageFileSize: 236.2 KiB