Package: alabaster.files Version: 1.4.0 Command: /home/biocbuild/bbs-3.20-bioc/R/bin/R CMD check --install=check:alabaster.files.install-out.txt --library=/home/biocbuild/bbs-3.20-bioc/R/site-library --timings alabaster.files_1.4.0.tar.gz StartedAt: 2025-01-30 19:48:57 -0500 (Thu, 30 Jan 2025) EndedAt: 2025-01-30 19:50:44 -0500 (Thu, 30 Jan 2025) EllapsedTime: 107.1 seconds RetCode: 0 Status: OK CheckDir: alabaster.files.Rcheck Warnings: 0