Package: alabaster.files Version: 1.4.0 Command: F:\biocbuild\bbs-3.20-bioc\R\bin\R.exe CMD check --no-multiarch --install=check:alabaster.files.install-out.txt --library=F:\biocbuild\bbs-3.20-bioc\R\library --no-vignettes --timings alabaster.files_1.4.0.tar.gz StartedAt: 2025-01-30 23:17:19 -0500 (Thu, 30 Jan 2025) EndedAt: 2025-01-30 23:19:40 -0500 (Thu, 30 Jan 2025) EllapsedTime: 141.4 seconds RetCode: 0 Status: OK CheckDir: alabaster.files.Rcheck Warnings: 0