Package: alabaster.files Version: 1.4.0 Command: F:\biocbuild\bbs-3.20-bioc\R\bin\R.exe CMD INSTALL alabaster.files StartedAt: 2025-01-30 15:47:47 -0500 (Thu, 30 Jan 2025) EndedAt: 2025-01-30 15:48:40 -0500 (Thu, 30 Jan 2025) EllapsedTime: 52.8 seconds RetCode: 0 Status: OK