Package: alabaster.files Version: 1.4.0 Command: /home/biocbuild/R/R/bin/R CMD build --keep-empty-dirs --no-resave-data alabaster.files StartedAt: 2025-01-30 21:28:50 -0000 (Thu, 30 Jan 2025) EndedAt: 2025-01-30 21:29:14 -0000 (Thu, 30 Jan 2025) EllapsedTime: 24.0 seconds RetCode: 0 Status: OK PackageFile: alabaster.files_1.4.0.tar.gz PackageFileSize: 260.2 KiB